BEGIN:VCALENDAR
VERSION:2.0
PRODID:-//eventon.com NONSGML v1.0//EN
CALSCALE:GREGORIAN
METHOD:PUBLISH
BEGIN:VEVENT
UID:69eae72d2b027
DTSTAMP:20260424T034445Z
DTSTART:20241101T030000Z
DTEND:20241101T050000Z
LOCATION:Crested Butte Library
SUMMARY:Halloween Parade After-Party!
DESCRIPTION:Join us on Thursday\,  October 31 at the Crested Butte Library 
 after the Annual Halloween Parade for sweet treats &amp; fun festivities un
 til 6pm! This event is free and open to all!\nhttps://www.gunnisoncountylib
 raries.org/events/halloween-parade-after-party/
URL:https://www.gunnisoncountylibraries.org/events/halloween-parade-after-party/
END:VEVENT
END:VCALENDAR