BEGIN:VCALENDAR
VERSION:2.0
PRODID:-//eventon.com NONSGML v1.0//EN
CALSCALE:GREGORIAN
METHOD:PUBLISH
BEGIN:VEVENT
UID:69eab6240423b
DTSTAMP:20260424T001532Z
DTSTART:20250718T050000Z
DTEND:20250718T060000Z
LOCATION:Crested Butte Library
SUMMARY:Author Talk: Judy Fairchild
DESCRIPTION:Join us on Thursday\,  July 17 at 6 pm at the Crested Butte Lib
 rary for an evening with writer and Gunnison native\,  Judy Fairchild. Judy
  will discuss her book The Old Eve Tree. About the book: During the summer 
 of 1952\,  in Siloam Springs\,  Arkansas\,  seven-year-old Tilly Harris beg
 ins to[..]\nhttps://www.gunnisoncountylibraries.org/events/author-talk-judy
 -fairchild-2/
URL:https://www.gunnisoncountylibraries.org/events/author-talk-judy-fairchild-2/
END:VEVENT
END:VCALENDAR