BEGIN:VCALENDAR
VERSION:2.0
PRODID:-//eventon.com NONSGML v1.0//EN
CALSCALE:GREGORIAN
METHOD:PUBLISH
BEGIN:VEVENT
UID:69eacdd90c9b7
DTSTAMP:20260424T015641Z
DTSTART:20241019T213000Z
DTEND:20241019T223000Z
LOCATION:Gunnison Library 1 Quartz Street\,  Gunnison\,  CO 81230
SUMMARY:Super Saturday Storytime!
DESCRIPTION:Join us at the Gunnison Library at 10:30 am on Saturday\,  Octo
 ber 19 for Super Saturday Storytime. October&#8217;s theme is Mythical Mons
 ter Mash! Wear your costumes! There will be stories and an activity for the
  whole family. Free &amp; open to the public.\nhttps://www.gunnisoncountyli
 braries.org/events/super-saturday-storytime-g-3/
URL:https://www.gunnisoncountylibraries.org/events/super-saturday-storytime-g-3/
END:VEVENT
END:VCALENDAR