BEGIN:VCALENDAR
VERSION:2.0
PRODID:-//eventon.com NONSGML v1.0//EN
CALSCALE:GREGORIAN
METHOD:PUBLISH
BEGIN:VEVENT
UID:69eb0b436da95
DTSTAMP:20260424T061843Z
DTSTART:20241024T020000Z
DTEND:20241024T033000Z
LOCATION:Gunnison Library &amp; Crested Butte Library
SUMMARY:After School Adventure: Treat Bags
DESCRIPTION:We hope you&#8217;ll join us at the Gunnison and Crested Butte 
 Library for After School Adventures on Wednesday\,  October 23 from from 3-
 4:30 pm Treat Bags: Decorate a bag for trick-or-treating! This event is fre
 e and all materials are provided.\nhttps://www.gunnisoncountylibraries.org/
 events/after-school-adventure-treat-bags/
URL:https://www.gunnisoncountylibraries.org/events/after-school-adventure-treat-bags/
END:VEVENT
END:VCALENDAR