BEGIN:VCALENDAR
VERSION:2.0
PRODID:-//eventon.com NONSGML v1.0//EN
CALSCALE:GREGORIAN
METHOD:PUBLISH
BEGIN:VEVENT
UID:69eb2129e88da
DTSTAMP:20260424T075209Z
DTSTART:20241017T020000Z
DTEND:20241017T033000Z
LOCATION:Gunnison Library &amp; Crested Butte Library
SUMMARY:After School Adventure: Pipe Cleaner Spiders
DESCRIPTION:We hope you&#8217;ll join us at the Gunnison and Crested Butte 
 Library for After School Adventures on Wednesday\,  October 16 from from 3-
 4:30 pm Pipe Cleaner Spiders: Fun &amp; Fuzzy Friends This event is free an
 d all materials are provided.\nhttps://www.gunnisoncountylibraries.org/even
 ts/after-school-adventure-spiders/
URL:https://www.gunnisoncountylibraries.org/events/after-school-adventure-spiders/
END:VEVENT
END:VCALENDAR