BEGIN:VCALENDAR
VERSION:2.0
PRODID:-//eventon.com NONSGML v1.0//EN
CALSCALE:GREGORIAN
METHOD:PUBLISH
BEGIN:VEVENT
UID:69eb398e3b0e1
DTSTAMP:20260424T093614Z
DTSTART:20241010T020000Z
DTEND:20241010T033000Z
LOCATION:Gunnison Library &amp; Crested Butte Library
SUMMARY:After School Adventure: Slime Time
DESCRIPTION:We hope you&#8217;ll join us at the Gunnison and Crested Butte 
 Library for After School Adventures on Wednesday\,  October 9 from from 3-4
 :30 pm Slime Time: Gooey\,  Glittery Slime! This event is free and all mate
 rials are provided.\nhttps://www.gunnisoncountylibraries.org/events/after-s
 chool-adventure-slime-time/
URL:https://www.gunnisoncountylibraries.org/events/after-school-adventure-slime-time/
END:VEVENT
END:VCALENDAR