BEGIN:VCALENDAR
VERSION:2.0
PRODID:-//eventon.com NONSGML v1.0//EN
CALSCALE:GREGORIAN
METHOD:PUBLISH
BEGIN:VEVENT
UID:69eb553e063b2
DTSTAMP:20260424T113422Z
DTSTART:20241003T020000Z
DTEND:20241003T033000Z
LOCATION:Gunnison Library &amp; Crested Butte Library
SUMMARY:After School Adventure: Forest Fairy Gardens
DESCRIPTION:We hope you&#8217;ll join us at the Gunnison and Crested Butte 
 Library for After School Adventures on Wednesday\,  October 2 from from 3-4
 :30 pm Forest Fairy Gardens: Happy Hidden Homes! This event is free and all
  materials are provided.\nhttps://www.gunnisoncountylibraries.org/events/af
 ter-school-adventure-forest-fairy-gardens/
URL:https://www.gunnisoncountylibraries.org/events/after-school-adventure-forest-fairy-gardens/
END:VEVENT
END:VCALENDAR