BEGIN:VCALENDAR
VERSION:2.0
PRODID:-//eventon.com NONSGML v1.0//EN
CALSCALE:GREGORIAN
METHOD:PUBLISH
BEGIN:VEVENT
UID:69eb6a1954331
DTSTAMP:20260424T130321Z
DTSTART:20241018T040000Z
DTEND:20241018T050000Z
LOCATION:Gunnison Library 1 Quartz Street\,  Gunnison\,  CO 81230
SUMMARY:October 2024 Crafternoon: Halloween Treat Garlands
DESCRIPTION:Join us at the Gunnison Library at 5 pm on Thursday\,  October 
 17 for Crafternoon. For October we will make fabric treat garlands with fun
  fabrics\,  tin foil\,  and twist-ties! Crafternoons are monthly maker-orie
 nted sessions with different projects every month for teens and adults. All
  supplies and basic instructions are[..]\nhttps://www.gunnisoncountylibrari
 es.org/events/october-2024-crafternoon/
URL:https://www.gunnisoncountylibraries.org/events/october-2024-crafternoon/
END:VEVENT
END:VCALENDAR