BEGIN:VCALENDAR
VERSION:2.0
PRODID:-//eventon.com NONSGML v1.0//EN
CALSCALE:GREGORIAN
METHOD:PUBLISH
BEGIN:VEVENT
UID:69eb826e2f019
DTSTAMP:20260424T144710Z
DTSTART:20241004T010000Z
DTEND:20241004T020000Z
LOCATION:Gunnison Library 1 Quartz Street\,  Gunnison\,  CO 81230
SUMMARY:Gunny GoodReads Book Club: October
DESCRIPTION:Please join us at 2pm on Thursday\,  October 3 for the next me
 eting of the Gunny GoodReads Book Club. Read &amp; discuss: The Berry Picke
 rs by Amanda Peters. &#8220;July 1962. A Mi&#8217;kmaq family from Nova Sco
 tia arrives in Maine to pick blueberries for the summer. Weeks later\,  fou
 r-year-old Ruthie\,  the family&#8217;s[..]\nhttps://www.gunnisoncountylibr
 aries.org/events/gunny-goodreads-book-club-october/
URL:https://www.gunnisoncountylibraries.org/events/gunny-goodreads-book-club-october/
END:VEVENT
END:VCALENDAR