BEGIN:VCALENDAR
VERSION:2.0
PRODID:-//eventon.com NONSGML v1.0//EN
CALSCALE:GREGORIAN
METHOD:PUBLISH
BEGIN:VEVENT
UID:69e925059c1c8
DTSTAMP:20260422T194405Z
DTSTART:20240804T010000Z
DTEND:20240804T020000Z
LOCATION:Crested Butte Library
SUMMARY:Summer Songwriting Shindig!
DESCRIPTION:Please join us at the Crested Butte Library from 2-3pm on Satur
 day\,  August 3 for a Summer Songwriting Shindig to wrap up the 2024 Summer
  Reading Program! Musician Lizzy Plotkin will lead families in a songwritin
 g excursion inspired by the nature surrounding the Old Rock Library. Famili
 es will be able[..]\nhttps://www.gunnisoncountylibraries.org/events/summer-
 songwriting-shindig/
URL:https://www.gunnisoncountylibraries.org/events/summer-songwriting-shindig/
END:VEVENT
END:VCALENDAR