BEGIN:VCALENDAR
VERSION:2.0
PRODID:-//eventon.com NONSGML v1.0//EN
CALSCALE:GREGORIAN
METHOD:PUBLISH
BEGIN:VEVENT
UID:69e50dc80f9ea
DTSTAMP:20260419T171552Z
DTSTART:20240704T013000Z
DTEND:20240704T030000Z
LOCATION:Gunnison Library &amp; Crested Butte Library
SUMMARY:Summer Craft Club: Bath Bombs!
DESCRIPTION:We hope you&#8217;ll join us for Summer Craft Club on Wednesday
 \,  July 3 from from 2:30-4 pm Bath Bombs! This event is free and all mater
 ials are provided. It runs concurrently at the Gunnison &amp; Crested Butte
  Libraries.\nhttps://www.gunnisoncountylibraries.org/events/summer-craft-cl
 ub-bath-bombs/
URL:https://www.gunnisoncountylibraries.org/events/summer-craft-club-bath-bombs/
END:VEVENT
END:VCALENDAR