BEGIN:VCALENDAR
VERSION:2.0
PRODID:-//eventon.com NONSGML v1.0//EN
CALSCALE:GREGORIAN
METHOD:PUBLISH
BEGIN:VEVENT
UID:69e50e22db5c7
DTSTAMP:20260419T171722Z
DTSTART:20240719T040000Z
DTEND:20240719T050000Z
LOCATION:Gunnison Library 1 Quartz Street\,  Gunnison\,  CO 81230
SUMMARY:July 2024 Crafternoon: Painted Brick Books
DESCRIPTION:Join us at the Gunnison Library at 5 pm on Thursday\,  July 18 
 for Crafternoon. For July we will make painted brick books. Paint a brick i
 n the likeness of your favorite book cover to use as decoration in your gar
 den or a doorstop. Crafternoons are monthly maker-oriented sessions with[..
 ]\nhttps://www.gunnisoncountylibraries.org/events/july-2024-crafternoon-bri
 ck-books/
URL:https://www.gunnisoncountylibraries.org/events/july-2024-crafternoon-brick-books/
END:VEVENT
END:VCALENDAR