BEGIN:VCALENDAR
VERSION:2.0
PRODID:-//eventon.com NONSGML v1.0//EN
CALSCALE:GREGORIAN
METHOD:PUBLISH
BEGIN:VEVENT
UID:69e8f7cbe8c3a
DTSTAMP:20260422T163107Z
DTSTART:20240626T230000Z
DTEND:20240627T000000Z
LOCATION:Gunnison Library 1 Quartz Street\,  Gunnison\,  CO 81230
SUMMARY:FOAM PARTY!
DESCRIPTION:Join us from noon to 1pm on Wednesday\,  June 26 at the Gunniso
 n Library for a FOAM PARTY! Let&#8217;s all dance and play together in the 
 foamy fun! Change of clothes or swimsuits encouraged. Bring a towel! This e
 vent is free and open to the public.\nhttps://www.gunnisoncountylibraries.o
 rg/events/foam-party/
URL:https://www.gunnisoncountylibraries.org/events/foam-party/
END:VEVENT
END:VCALENDAR