BEGIN:VCALENDAR
VERSION:2.0
PRODID:-//eventon.com NONSGML v1.0//EN
CALSCALE:GREGORIAN
METHOD:PUBLISH
BEGIN:VEVENT
UID:69e8e342c4b04
DTSTAMP:20260422T150330Z
DTSTART:20240627T230000Z
DTEND:20240628T060000Z
LOCATION:Crested Butte Library
SUMMARY:Author Talk & Community Hike w/ John Fayhee
DESCRIPTION:Join us on Thursday\,  June 27 for a community hike and author 
 talk with John Fayhee\,  author of &#8220;A Long Tangent: Musings by an old
  man &amp; his young dog hiking every day for a year&#8220;. Event Schedule
 : 12pm: Meet at the Crested Butte Library 12:30pm: Depart the library for[.
 .]\nhttps://www.gunnisoncountylibraries.org/events/author-talk-community-hi
 ke-w-john-fayhee-cb/
URL:https://www.gunnisoncountylibraries.org/events/author-talk-community-hike-w-john-fayhee-cb/
END:VEVENT
END:VCALENDAR