BEGIN:VCALENDAR
VERSION:2.0
PRODID:-//eventon.com NONSGML v1.0//EN
CALSCALE:GREGORIAN
METHOD:PUBLISH
BEGIN:VEVENT
UID:69e8f6b0b4bf4
DTSTAMP:20260422T162624Z
DTSTART:20240626T230000Z
DTEND:20240627T060000Z
LOCATION:Gunnison Library 1 Quartz Street\,  Gunnison\,  CO 81230
SUMMARY:Author Talk & Community Hike w/ John Fayhee
DESCRIPTION:Join us on Wednesday\,  June 26 for a community hike and author
  talk with John Fayhee\,  author of &#8220;A Long Tangent: Musings by an ol
 d man &amp; his young dog hiking every day for a year&#8220;. Event Schedul
 e: 12pm: Meet at the Gunnison County Public Library 1 Quartz Street Gunniso
 n\, [..]\nhttps://www.gunnisoncountylibraries.org/events/author-talk-commun
 ity-hike-w-john-fayhee/
URL:https://www.gunnisoncountylibraries.org/events/author-talk-community-hike-w-john-fayhee/
END:VEVENT
END:VCALENDAR