BEGIN:VCALENDAR
VERSION:2.0
PRODID:-//eventon.com NONSGML v1.0//EN
CALSCALE:GREGORIAN
METHOD:PUBLISH
BEGIN:VEVENT
UID:69e4f84fca491
DTSTAMP:20260419T154415Z
DTSTART:20240524T050000Z
DTEND:20240524T063000Z
LOCATION:Gunnison Library 1 Quartz Street\,  Gunnison\,  CO 81230
SUMMARY:Journalism & Democracy in the United States of America – A Community Conversation
DESCRIPTION:Please join us at the Gunnison Library on Thursday\,  May 23 at
  6pm with the Colorado Sun’s Sandra Fish\,  Gunnison Country Times’ Bel
 la Biondini &amp; Alan Wartes\,  Crested Butte News’ Mark Reaman\,  and K
 BUT Community Radio’s Kate Gienapp in a panel discussion on the critical 
 connection between journalism and democracy.[..]\nhttps://www.gunnisoncount
 ylibraries.org/events/journalism-democracy-in-the-united-states-of-america-
 a-community-conversation/
URL:https://www.gunnisoncountylibraries.org/events/journalism-democracy-in-the-united-states-of-america-a-community-conversation/
END:VEVENT
END:VCALENDAR