BEGIN:VCALENDAR
VERSION:2.0
PRODID:-//eventon.com NONSGML v1.0//EN
CALSCALE:GREGORIAN
METHOD:PUBLISH
BEGIN:VEVENT
UID:69e5e54332113
DTSTAMP:20260420T083515Z
DTSTART:20240517T040000Z
DTEND:20240517T050000Z
LOCATION:Gunnison Library 1 Quartz Street\,  Gunnison\,  CO 81230
SUMMARY:May 2024 Crafternoon: Calligraphy Workshop
DESCRIPTION:Join us at the Gunnison Library at 5 pm on Thursday\,  May 16 f
 or Crafternoon. For May we will enjoy a calligraphy workshop instructed by 
 local artist William Tintera. Learn simple Roman calligraphy techniques inc
 luding letterform and spacing. Send some snail mail demonstrating your new 
 skills with a pre-postaged post[..]\nhttps://www.gunnisoncountylibraries.or
 g/events/april-2024-crafternoon-calligraphy/
URL:https://www.gunnisoncountylibraries.org/events/april-2024-crafternoon-calligraphy/
END:VEVENT
END:VCALENDAR