BEGIN:VCALENDAR
VERSION:2.0
PRODID:-//eventon.com NONSGML v1.0//EN
CALSCALE:GREGORIAN
METHOD:PUBLISH
BEGIN:VEVENT
UID:69ed57d2161d4
DTSTAMP:20260426T000954Z
DTSTART:20240419T210000Z
DTEND:20240419T230000Z
LOCATION:Gunnison Library 1 Quartz Street\,  Gunnison\,  CO 81230
SUMMARY:GCEA Earth Day Event
DESCRIPTION:Please join us at the Gunnison Library from 10am-12pm on Friday
 \,  April 19 for an Earth Day celebration hosted by the Gunnison County Ele
 ctric Association. This fun morning of Earth Day activities will include se
 ed bombs\,  bird feeders\,  herb starters &amp; recycled crafts! This event
  is free &amp; open to[..]\nhttps://www.gunnisoncountylibraries.org/events/
 gcea-earth-day-event/
URL:https://www.gunnisoncountylibraries.org/events/gcea-earth-day-event/
END:VEVENT
END:VCALENDAR