BEGIN:VCALENDAR
VERSION:2.0
PRODID:-//eventon.com NONSGML v1.0//EN
CALSCALE:GREGORIAN
METHOD:PUBLISH
BEGIN:VEVENT
UID:69ec1b2693a2d
DTSTAMP:20260425T013846Z
DTSTART:20240420T213000Z
DTEND:20240420T223000Z
LOCATION:Crested Butte Library
SUMMARY:Super Saturday Storytime!
DESCRIPTION:Join us at the Crested Butte Library at 10:30 am on Saturday\, 
  March 20 for Super Saturday Storytime. Let&#8217;s gather to celebrate Nat
 ional Poetry Month with some rhyme time\,  and even create your own poem to
  share on our Poet-Tree. Free &amp; open to the public.\nhttps://www.gunnis
 oncountylibraries.org/events/super-saturday-storytime-cb-3/
URL:https://www.gunnisoncountylibraries.org/events/super-saturday-storytime-cb-3/
END:VEVENT
END:VCALENDAR