BEGIN:VCALENDAR
VERSION:2.0
PRODID:-//eventon.com NONSGML v1.0//EN
CALSCALE:GREGORIAN
METHOD:PUBLISH
BEGIN:VEVENT
UID:69e918e030180
DTSTAMP:20260422T185216Z
DTSTART:20240418T020000Z
DTEND:20240418T033000Z
LOCATION:Gunnison Library &amp; Crested Butte Library
SUMMARY:After School Adventure: Bee Hotels
DESCRIPTION:We hope you&#8217;ll join us for After School Adventures on Wed
 nesday\,  April 17 from from 3-4:30 pm Bee Hotels: Build a home to help our
  busy buddies! This event is free and all materials are provided. It runs c
 oncurrently at the Gunnison &amp; Crested Butte Libraries.\nhttps://www.gun
 nisoncountylibraries.org/events/after-school-adventure-bee-hotels/
URL:https://www.gunnisoncountylibraries.org/events/after-school-adventure-bee-hotels/
END:VEVENT
END:VCALENDAR