BEGIN:VCALENDAR
VERSION:2.0
PRODID:-//eventon.com NONSGML v1.0//EN
CALSCALE:GREGORIAN
METHOD:PUBLISH
BEGIN:VEVENT
UID:69e907550be70
DTSTAMP:20260422T173725Z
DTSTART:20240411T020000Z
DTEND:20240411T033000Z
LOCATION:Gunnison Library &amp; Crested Butte Library
SUMMARY:After School Adventure: Rainbow Spinners
DESCRIPTION:We hope you&#8217;ll join us for After School Adventures on Wed
 nesday\,  April 10 from from 3-4:30 pm Rainbow Spinners: Create a paper rai
 nbow and watch it twist! This event is free and all materials are provided.
  It runs concurrently at the Gunnison &amp; Crested Butte Libraries.\nhttps
 ://www.gunnisoncountylibraries.org/events/after-school-adventure-rainbow-sp
 inners/
URL:https://www.gunnisoncountylibraries.org/events/after-school-adventure-rainbow-spinners/
END:VEVENT
END:VCALENDAR