BEGIN:VCALENDAR
VERSION:2.0
PRODID:-//eventon.com NONSGML v1.0//EN
CALSCALE:GREGORIAN
METHOD:PUBLISH
BEGIN:VEVENT
UID:69e91a8f3b1e8
DTSTAMP:20260422T185927Z
DTSTART:20240404T020000Z
DTEND:20240404T033000Z
LOCATION:Gunnison Library &amp; Crested Butte Library
SUMMARY:After School Adventure: Friendship Bracelets
DESCRIPTION:We hope you&#8217;ll join us for After School Adventures on Wed
 nesday\,  April 3 from from 3-4:30 pm Friendship Bracelets: Joyful jewelry 
 for you and your pals This event is free and all materials are provided. It
  runs concurrently at the Gunnison &amp; Crested Butte Libraries.\nhttps://
 www.gunnisoncountylibraries.org/events/after-school-adventure-friendship-br
 acelets/
URL:https://www.gunnisoncountylibraries.org/events/after-school-adventure-friendship-bracelets/
END:VEVENT
END:VCALENDAR