BEGIN:VCALENDAR
VERSION:2.0
PRODID:-//eventon.com NONSGML v1.0//EN
CALSCALE:GREGORIAN
METHOD:PUBLISH
BEGIN:VEVENT
UID:69e930a75887f
DTSTAMP:20260422T203343Z
DTSTART:20240406T050000Z
DTEND:20240406T070000Z
LOCATION:Gunnison Library 1 Quartz Street\,  Gunnison\,  CO 81230
SUMMARY:Winter Send-off Ski Movie Nite!
DESCRIPTION:Please join us at 6pm at the Gunnison Library on Friday\,  Apri
 l 5 for a free movie night. To send off winter in style\,  we&#8217;ll be s
 creening the 1969 film &#8220;The Last of the Ski Bums&#8221;. Retro attire
  is encouraged! Snacks and refreshments provided. Free &amp; Open to the Pu
 blic.\nhttps://www.gunnisoncountylibraries.org/events/winter-send-off-ski-m
 ovie-nite/
URL:https://www.gunnisoncountylibraries.org/events/winter-send-off-ski-movie-nite/
END:VEVENT
END:VCALENDAR