BEGIN:VCALENDAR
VERSION:2.0
PRODID:-//eventon.com NONSGML v1.0//EN
CALSCALE:GREGORIAN
METHOD:PUBLISH
BEGIN:VEVENT
UID:69e4c726495c1
DTSTAMP:20260419T121430Z
DTSTART:20240307T020000Z
DTEND:20240307T033000Z
LOCATION:Gunnison Library &amp; Crested Butte Library
SUMMARY:After School Adventure: Perler Bead Pixel Art
DESCRIPTION:We hope you&#8217;ll join us for After School Adventures on Wed
 nesday\,  March 6 from from 3-4:30 pm Perler Bead Pixel Art: Create a cute 
 character! This event is free and all materials are provided. It runs concu
 rrently at the Gunnison &amp; Crested Butte Libraries.\nhttps://www.gunniso
 ncountylibraries.org/events/after-school-adventure-perler-beads/
URL:https://www.gunnisoncountylibraries.org/events/after-school-adventure-perler-beads/
END:VEVENT
END:VCALENDAR