BEGIN:VCALENDAR
VERSION:2.0
PRODID:-//eventon.com NONSGML v1.0//EN
CALSCALE:GREGORIAN
METHOD:PUBLISH
BEGIN:VEVENT
UID:69e4dbb9480ae
DTSTAMP:20260419T134217Z
DTSTART:20240330T043000Z
DTEND:20240330T064500Z
LOCATION:Gunnison Library 1 Quartz Street\,  Gunnison\,  CO 81230
SUMMARY:Page to Screen Series: DUNE
DESCRIPTION:Movie night! Please join us at 5:30 pm at the Gunnison Library 
 on Friday\,  March 29 for the next installment of the Page to Screen Series
  at the library. These FREE movie screenings are a celebration of books tha
 t have inspired on-screen adaptations. For March we will be screening DUNE\
 , [..]\nhttps://www.gunnisoncountylibraries.org/events/page-to-screen-serie
 s-dune/
URL:https://www.gunnisoncountylibraries.org/events/page-to-screen-series-dune/
END:VEVENT
END:VCALENDAR