BEGIN:VCALENDAR
VERSION:2.0
PRODID:-//eventon.com NONSGML v1.0//EN
CALSCALE:GREGORIAN
METHOD:PUBLISH
BEGIN:VEVENT
UID:69eb826691a9b
DTSTAMP:20260424T144702Z
DTSTART:20240111T020000Z
DTEND:20240111T033000Z
LOCATION:Gunnison Library &amp; Crested Butte Library
SUMMARY:After School Adventure: Painting from Scratch!
DESCRIPTION:We hope you&#8217;ll join us for After School Adventures on Wed
 nesday\,  January 10 from from 3-4:30 pm Painting from Scratch! Scratch pap
 er painting This event is free and all materials are provided. It runs conc
 urrently at the Gunnison &amp; Crested Butte Libraries.\nhttps://www.gunnis
 oncountylibraries.org/events/after-school-adventure-scratch-painting/
URL:https://www.gunnisoncountylibraries.org/events/after-school-adventure-scratch-painting/
END:VEVENT
END:VCALENDAR