BEGIN:VCALENDAR
VERSION:2.0
PRODID:-//eventon.com NONSGML v1.0//EN
CALSCALE:GREGORIAN
METHOD:PUBLISH
BEGIN:VEVENT
UID:69eac3904dacf
DTSTAMP:20260424T011248Z
DTSTART:20231223T040000Z
DTEND:20231223T060000Z
LOCATION:Gunnison Library 1 Quartz Street\,  Gunnison\,  CO 81230
SUMMARY:*Holiday* Teen Gaming Guild
DESCRIPTION:Join the Gunnison Library&#8217;s for a special Elf inspired Ho
 liday Gaming Guild\,  for ages 10-18. Meeting from 5-7 pm in the Teen Loung
 e. Refreshments provided\,  free and open to all.\nhttps://www.gunnisoncoun
 tylibraries.org/events/teen-gaming-guild-holiday/
URL:https://www.gunnisoncountylibraries.org/events/teen-gaming-guild-holiday/
END:VEVENT
END:VCALENDAR