BEGIN:VCALENDAR
VERSION:2.0
PRODID:-//eventon.com NONSGML v1.0//EN
CALSCALE:GREGORIAN
METHOD:PUBLISH
BEGIN:VEVENT
UID:69e88c2b7e8ed
DTSTAMP:20260422T085155Z
DTSTART:20231005T020000Z
DTEND:20231005T033000Z
LOCATION:Gunnison Library &amp; Crested Butte Library
SUMMARY:After School Adventure: Leaf Lore
DESCRIPTION:We hope you&#8217;ll join us for After School Adventures on Wed
 nesday\,  October 4 from from 4-5:30 pm Leaf Lore: Learn why leaves change
  color and hear plants sing This event is free and all materials are provid
 ed. It runs concurrently at the Gunnison &amp; Crested Butte Libraries.\nht
 tps://www.gunnisoncountylibraries.org/events/after-school-adventure-leaf-lo
 re/
URL:https://www.gunnisoncountylibraries.org/events/after-school-adventure-leaf-lore/
END:VEVENT
END:VCALENDAR