BEGIN:VCALENDAR
VERSION:2.0
PRODID:-//eventon.com NONSGML v1.0//EN
CALSCALE:GREGORIAN
METHOD:PUBLISH
BEGIN:VEVENT
UID:69e5460c816bd
DTSTAMP:20260419T211556Z
DTSTART:20231014T200000Z
DTEND:20231014T230000Z
LOCATION:Gunnison Library 1 Quartz Street\,  Gunnison\,  CO 81230
SUMMARY:Solar Eclipse Viewing Party
DESCRIPTION:The Gunnison Valley Observatory &amp; Gunnison County Libraries
  invite you to view the October 14 solar eclipse at the library. The partia
 l eclipse will cover approximately 85% of the sun between 9 am &#8211; 12 p
 m. The Observatory will provide solar viewing telescopes and expertise; the
  library will provide solar[..]\nhttps://www.gunnisoncountylibraries.org/ev
 ents/solar-eclipse-viewing-party/
URL:https://www.gunnisoncountylibraries.org/events/solar-eclipse-viewing-party/
END:VEVENT
END:VCALENDAR