BEGIN:VCALENDAR
VERSION:2.0
PRODID:-//eventon.com NONSGML v1.0//EN
CALSCALE:GREGORIAN
METHOD:PUBLISH
BEGIN:VEVENT
UID:69eb5f605f8de
DTSTAMP:20260424T121736Z
DTSTART:20170920T173000Z
DTEND:20170920T183000Z
LOCATION:
SUMMARY:Common Cents Financial Literacy Workshop 3-Retirement Savings Vehicles
DESCRIPTION:Join us for our grant-funded  five-part basic financial educa
 tional series\,  Common Cents for Colorado. The third session is called 
 Retirement Savings Vehicles.”  This workshop will cover the many ways
  individuals can use tax-advantaged investing to protect their long-term sa
 vings\,  especially as they plan for their retirement.\nhttps://www.gunniso
 ncountylibraries.org/events/common-cents-financial-literacy-workshop-3-reti
 rement-savings-vehicles/
URL:https://www.gunnisoncountylibraries.org/events/common-cents-financial-literacy-workshop-3-retirement-savings-vehicles/
END:VEVENT
END:VCALENDAR