BEGIN:VCALENDAR
VERSION:2.0
PRODID:-//eventon.com NONSGML v1.0//EN
CALSCALE:GREGORIAN
METHOD:PUBLISH
BEGIN:VEVENT
UID:69e4db7954b9b
DTSTAMP:20260419T134113Z
DTSTART:20230929T050000Z
DTEND:20230929T060000Z
LOCATION:Gunnison Library 1 Quartz Street\,  Gunnison\,  CO 81230
SUMMARY:Festival de Cine
DESCRIPTION:Please join us at the Gunnison Library for a movie festival to 
 celebrate Hispanic Heritage Month! All are invited to join and enjoy these 
 great movies! Popcorn\,  candy and drinks will be provided. Movies will be 
 shown in Spanish with English subtitles. Movies start at 6 pm. ¡Únase a n
 osotros[..]\nhttps://www.gunnisoncountylibraries.org/events/festival-de-cin
 e/var/ri-2.l-L1
URL:https://www.gunnisoncountylibraries.org/events/festival-de-cine/var/ri-2.l-L1
END:VEVENT
END:VCALENDAR