BEGIN:VCALENDAR
VERSION:2.0
PRODID:-//eventon.com NONSGML v1.0//EN
CALSCALE:GREGORIAN
METHOD:PUBLISH
BEGIN:VEVENT
UID:69e4cbbba5487
DTSTAMP:20260419T123403Z
DTSTART:20230921T030000Z
DTEND:20230921T043000Z
LOCATION:Gunnison Library &amp; Crested Butte Library
SUMMARY:After School Adventure: Lanyard Keychains
DESCRIPTION:We hope you&#8217;ll join us for After School Adventures on Wed
 nesday\,  September 20 from from 4-5:30 pm Lanyard Keychains: Never lose yo
 ur library card again! This event is free and all materials are provided. I
 t runs concurrently at the Gunnison &amp; Crested Butte Libraries.\nhttps:/
 /www.gunnisoncountylibraries.org/events/after-school-adventure-lanyard-keyc
 hains/
URL:https://www.gunnisoncountylibraries.org/events/after-school-adventure-lanyard-keychains/
END:VEVENT
END:VCALENDAR