BEGIN:VCALENDAR
VERSION:2.0
PRODID:-//eventon.com NONSGML v1.0//EN
CALSCALE:GREGORIAN
METHOD:PUBLISH
BEGIN:VEVENT
UID:69e4e6297c7c7
DTSTAMP:20260419T142649Z
DTSTART:20230914T030000Z
DTEND:20230914T043000Z
LOCATION:Gunnison Library &amp; Crested Butte Library
SUMMARY:After School Adventure: Backpack Tags!
DESCRIPTION:We hope you&#8217;ll join us for After School Adventures on Wed
 nesday\,  September 13 from from 4-5:30 pm Backpack Tags: Personalize your 
 pack with beads and pom-poms This event is free and all materials are provi
 ded. It runs concurrently at the Gunnison &amp; Crested Butte Libraries.\nh
 ttps://www.gunnisoncountylibraries.org/events/after-school-adventure-backpa
 ck-tags/
URL:https://www.gunnisoncountylibraries.org/events/after-school-adventure-backpack-tags/
END:VEVENT
END:VCALENDAR