BEGIN:VCALENDAR
VERSION:2.0
PRODID:-//eventon.com NONSGML v1.0//EN
CALSCALE:GREGORIAN
METHOD:PUBLISH
BEGIN:VEVENT
UID:69e50254b7aa6
DTSTAMP:20260419T162700Z
DTSTART:20230907T030000Z
DTEND:20230907T043000Z
LOCATION:Gunnison Library &amp; Crested Butte Library
SUMMARY:After School Adventure: DIY Journals!
DESCRIPTION:We hope you&#8217;ll join us for After School Adventures on Wed
 nesday\,  September 6 from from 4-5:30 pm DIY Journals: Cover &amp; decorat
 e your own notebook This event is free and all materials are provided. It r
 uns concurrently at the Gunnison &amp; Crested Butte Libraries.\nhttps://ww
 w.gunnisoncountylibraries.org/events/after-school-adventure-diy-journals/
URL:https://www.gunnisoncountylibraries.org/events/after-school-adventure-diy-journals/
END:VEVENT
END:VCALENDAR