BEGIN:VCALENDAR
VERSION:2.0
PRODID:-//eventon.com NONSGML v1.0//EN
CALSCALE:GREGORIAN
METHOD:PUBLISH
BEGIN:VEVENT
UID:69e51b3465bd2
DTSTAMP:20260419T181308Z
DTSTART:20230921T050000Z
DTEND:20230921T060000Z
LOCATION:Gunnison Library 1 Quartz Street\,  Gunnison\,  CO 81230
SUMMARY:Sleep Better Workshop w/ Jalene Szuba
DESCRIPTION:Please join us at the Gunnison Library on Wednesday\,  Septembe
 r 20 from 6-7 pm for a Sleep Better Workshop presented by board-certified (
 NBHWC) health coach Jalene Szuba. This informative workshop will explain th
 e importance of sleep and how sleep repairs the body. Learn why sleep is c
 ritical not only to short[..]\nhttps://www.gunnisoncountylibraries.org/even
 ts/sleep-better-workshop-w-jalene-szuba-g/
URL:https://www.gunnisoncountylibraries.org/events/sleep-better-workshop-w-jalene-szuba-g/
END:VEVENT
END:VCALENDAR