BEGIN:VCALENDAR
VERSION:2.0
PRODID:-//eventon.com NONSGML v1.0//EN
CALSCALE:GREGORIAN
METHOD:PUBLISH
BEGIN:VEVENT
UID:69ecb8ebc1109
DTSTAMP:20260425T125155Z
DTSTART:20230825T040000Z
DTEND:20230825T060000Z
LOCATION:Crested Butte Library
SUMMARY:August 2023 Crafternoon
DESCRIPTION:Join us at the Crested Butte Library on Thursday\,  August 24 f
 rom 5-7 pm for August&#8217;s Crafternoon. For this month&#8217;s craft\,  
 we&#8217;re experimenting with squeegee art and making three custom postcar
 ds to send to the lucky recipients of your choice. Hooray for snail mail! &
 #8230; Crafternoons are monthly maker-oriented sessions[..]\nhttps://www.gu
 nnisoncountylibraries.org/events/august-2023-crafternoon/
URL:https://www.gunnisoncountylibraries.org/events/august-2023-crafternoon/
END:VEVENT
END:VCALENDAR