BEGIN:VCALENDAR
VERSION:2.0
PRODID:-//eventon.com NONSGML v1.0//EN
CALSCALE:GREGORIAN
METHOD:PUBLISH
BEGIN:VEVENT
UID:69e4fff83f656
DTSTAMP:20260419T161656Z
DTSTART:20230904T220000Z
DTEND:20230904T220000Z
LOCATION:
SUMMARY:Library closed - Labor Day
DESCRIPTION:Gunnison Library and Crested Butte Library will be closed on Mo
 nday\,  September 4 in observance of Labor Day.\nhttps://www.gunnisoncounty
 libraries.org/events/library-closed-labor-day/
URL:https://www.gunnisoncountylibraries.org/events/library-closed-labor-day/
END:VEVENT
END:VCALENDAR