BEGIN:VCALENDAR
VERSION:2.0
PRODID:-//eventon.com NONSGML v1.0//EN
CALSCALE:GREGORIAN
METHOD:PUBLISH
BEGIN:VEVENT
UID:69e4e222ea69a
DTSTAMP:20260419T140938Z
DTSTART:20250915T020000Z
DTEND:20250915T040000Z
LOCATION:Gunnison Library 1 Quartz Street\,  Gunnison\,  CO 81230
SUMMARY:Teen Gaming Guild
DESCRIPTION:Join the Gunnison Library&#8217;s Gaming Guild! Meets in the Te
 en Lounge. Ages 11-13: 3-4pm Ages 14-18: 4-5pm Learn to play Dungeons &amp;
  Dragons and embark on a new campaign!  Refreshments provided\,  free and 
 open to all.\nhttps://www.gunnisoncountylibraries.org/events/teen-gaming-gu
 ild-2/
URL:https://www.gunnisoncountylibraries.org/events/teen-gaming-guild-2/
END:VEVENT
END:VCALENDAR