BEGIN:VCALENDAR
VERSION:2.0
PRODID:-//eventon.com NONSGML v1.0//EN
CALSCALE:GREGORIAN
METHOD:PUBLISH
BEGIN:VEVENT
UID:69e7774e4aa5e
DTSTAMP:20260421T131038Z
DTSTART:20260106T210000Z
DTEND:20260106T214500Z
LOCATION:Crested Butte Library
SUMMARY:Tuesday Storytime
DESCRIPTION:Join us for Storytime on Tuesdays from 10-10:45 am at the Crest
 ed Butte Library as we practice school readiness skills through stories\,  
 games\,  and songs.\nhttps://www.gunnisoncountylibraries.org/events/tuesday
 -storytime/
URL:https://www.gunnisoncountylibraries.org/events/tuesday-storytime/
END:VEVENT
END:VCALENDAR