BEGIN:VCALENDAR
VERSION:2.0
PRODID:-//eventon.com NONSGML v1.0//EN
CALSCALE:GREGORIAN
METHOD:PUBLISH
BEGIN:VEVENT
UID:69e7778cb82de
DTSTAMP:20260421T131140Z
DTSTART:20260105T210000Z
DTEND:20260105T214500Z
LOCATION:Gunnison Library 1 Quartz Street\,  Gunnison\,  CO 81230
SUMMARY:Monday Storytime
DESCRIPTION:Join us every Monday from 10:00-10:45 am at the Gunnison Librar
 y as we practice school readiness skills through stories\,  games\,  and so
 ngs.\nhttps://www.gunnisoncountylibraries.org/events/monday-storytime/
URL:https://www.gunnisoncountylibraries.org/events/monday-storytime/
END:VEVENT
END:VCALENDAR