BEGIN:VCALENDAR
VERSION:2.0
PRODID:-//eventon.com NONSGML v1.0//EN
CALSCALE:GREGORIAN
METHOD:PUBLISH
BEGIN:VEVENT
UID:69ece80cd92ae
DTSTAMP:20260425T161300Z
DTSTART:20240202T040000Z
DTEND:20240202T050000Z
LOCATION:Gunnison Library 1 Quartz Street\,  Gunnison\,  CO 81230
SUMMARY:Teen Advisory Board
DESCRIPTION:Do you want a say in what the library offers? Do you need servi
 ce/volunteer hours? Do you like free pizza? Join the library&#8217;s Teen A
 dvisory Board to select new books and media for our YA collection and plan 
 fun events for teens! Meets the first Thursday of the month at[..]\nhttps:/
 /www.gunnisoncountylibraries.org/events/teen-advisory-board/var/ri-1.l-L1
URL:https://www.gunnisoncountylibraries.org/events/teen-advisory-board/var/ri-1.l-L1
END:VEVENT
END:VCALENDAR