BEGIN:VCALENDAR
VERSION:2.0
PRODID:-//eventon.com NONSGML v1.0//EN
CALSCALE:GREGORIAN
METHOD:PUBLISH
BEGIN:VEVENT
UID:69e86c89bcd70
DTSTAMP:20260422T063657Z
DTSTART:20220211T050000Z
DTEND:20220211T063000Z
LOCATION:Crested Butte Library
SUMMARY:Chocolate Tasting Experience
DESCRIPTION:What better way to get ready for Valentine’s Day than with a 
 Chocolate Tasting event! Experience and learn to taste chocolate with Karen
  Fienberg\,  the Chocolate Enthusiast of Crested Butte\,  for a guided\,  i
 nteractive\,  and of course\,  delicious evening.  You’ll learn how caca
 o origin affects flavor\,  hear fun stories about[..]\nhttps://www.gunnison
 countylibraries.org/events/chocolate-tasting-experience/
URL:https://www.gunnisoncountylibraries.org/events/chocolate-tasting-experience/
END:VEVENT
END:VCALENDAR