BEGIN:VCALENDAR
VERSION:2.0
PRODID:-//eventon.com NONSGML v1.0//EN
CALSCALE:GREGORIAN
METHOD:PUBLISH
BEGIN:VEVENT
UID:69e897d9f34d0
DTSTAMP:20260422T094145Z
DTSTART:20230201T030000Z
DTEND:20230201T040000Z
LOCATION:
SUMMARY:Socrates Cafe Happy Hour
DESCRIPTION:Join us every 5th Tuesday at 4 pm for Socrates Cafe\,  an engag
 ing conversation over drinks. Meeting at a local watering hole. For more de
 tails and confirmed location\,  please email event coordinator\,  Sonda at 
 sonda-at-gunnisoncountylibraries-dot-org.\nhttps://www.gunnisoncountylibrar
 ies.org/events/socrates-cafe-happy-hour-3/
URL:https://www.gunnisoncountylibraries.org/events/socrates-cafe-happy-hour-3/
END:VEVENT
END:VCALENDAR