BEGIN:VCALENDAR
VERSION:2.0
PRODID:-//eventon.com NONSGML v1.0//EN
CALSCALE:GREGORIAN
METHOD:PUBLISH
BEGIN:VEVENT
UID:69ea1f57a6097
DTSTAMP:20260423T133207Z
DTSTART:20220120T011500Z
DTEND:20220120T031500Z
LOCATION:Crested Butte Library
SUMMARY:Wednesday ReadAloud
DESCRIPTION:Every Wednesday after school from 2:15-4:15pm\,  join us at the
  Crested Butte Library as we read a chapter book together.\nhttps://www.gun
 nisoncountylibraries.org/events/wednesday-readaloud/
URL:https://www.gunnisoncountylibraries.org/events/wednesday-readaloud/
END:VEVENT
END:VCALENDAR