BEGIN:VCALENDAR
VERSION:2.0
PRODID:-//eventon.com NONSGML v1.0//EN
CALSCALE:GREGORIAN
METHOD:PUBLISH
BEGIN:VEVENT
UID:69ea07b78d9be
DTSTAMP:20260423T115119Z
DTSTART:20220601T043000Z
DTEND:20220601T060000Z
LOCATION:Gunnison Library 1 Quartz Street\,  Gunnison\,  CO 81230
SUMMARY:Career and College Readiness Series #5
DESCRIPTION:Interview Practice Part five of a five part series on career an
 d college readiness. Join Crested Butte Community School Counselor Stevie K
 remer in this workshop focusing on interview skills and practice! Particip
 ants can hope to leave with the skills\,  tips and confidence to excell in
  their next interview! All participants will have[..]\nhttps://www.gunnison
 countylibraries.org/events/college-and-career-series-5/
URL:https://www.gunnisoncountylibraries.org/events/college-and-career-series-5/
END:VEVENT
END:VCALENDAR