BEGIN:VCALENDAR
VERSION:2.0
PRODID:-//eventon.com NONSGML v1.0//EN
CALSCALE:GREGORIAN
METHOD:PUBLISH
BEGIN:VEVENT
UID:69e8966650f3e
DTSTAMP:20260422T093534Z
DTSTART:20220330T043000Z
DTEND:20220330T060000Z
LOCATION:
SUMMARY:Career and College Readiness Series #3
DESCRIPTION:Applications and Scholarships Part three of a five part series 
 on career and college readiness. Join Crested Butte Community School Counse
 lor Stevie Kremer as she dives into the world of applications and scholarsh
 ips. Participants can hope to leave with skills to use to search for job ap
 plications and college scholarships\, [..]\nhttps://www.gunnisoncountylibra
 ries.org/events/college-and-career-series-3/
URL:https://www.gunnisoncountylibraries.org/events/college-and-career-series-3/
END:VEVENT
END:VCALENDAR