BEGIN:VCALENDAR
VERSION:2.0
PRODID:-//eventon.com NONSGML v1.0//EN
CALSCALE:GREGORIAN
METHOD:PUBLISH
BEGIN:VEVENT
UID:69e881109a1e3
DTSTAMP:20260422T080432Z
DTSTART:20220216T043000Z
DTEND:20220216T060000Z
LOCATION:Gunnison Library 1 Quartz Street\,  Gunnison\,  CO 81230
SUMMARY:Career and College Readiness Series #2
DESCRIPTION:Part two of a five part series on career and college readiness.
  Join CAFE and Crested Butte Community School Counselor\,  Stevie Kremer\, 
  as we help you craft the perfect resume for your next job or college appli
 cation. We talk about proper formatting\,  skills to highlight\,  buzz word
 s to use and[..]\nhttps://www.gunnisoncountylibraries.org/events/college-an
 d-career-series-2/
URL:https://www.gunnisoncountylibraries.org/events/college-and-career-series-2/
END:VEVENT
END:VCALENDAR