BEGIN:VCALENDAR
VERSION:2.0
PRODID:-//eventon.com NONSGML v1.0//EN
CALSCALE:GREGORIAN
METHOD:PUBLISH
BEGIN:VEVENT
UID:69e8a349a92a8
DTSTAMP:20260422T103033Z
DTSTART:20220126T043000Z
DTEND:20220126T060000Z
LOCATION:Gunnison Library 1 Quartz Street\,  Gunnison\,  CO 81230
SUMMARY:Career and College Readiness Series #1
DESCRIPTION:How to search for colleges and jobs Join Crested Butte Communit
 y School Councilor\,  Stevie Kremer\,  for an informative workshop on the i
 ns and outs of searching for jobs or colleges- find one that suits you! Ste
 vie will provide resources and search tips for high school students and a
 dults as well as printed[..]\nhttps://www.gunnisoncountylibraries.org/event
 s/college-and-career-readiness-series-1/
URL:https://www.gunnisoncountylibraries.org/events/college-and-career-readiness-series-1/
END:VEVENT
END:VCALENDAR