BEGIN:VCALENDAR
VERSION:2.0
PRODID:-//eventon.com NONSGML v1.0//EN
CALSCALE:GREGORIAN
METHOD:PUBLISH
BEGIN:VEVENT
UID:69e51a42a8340
DTSTAMP:20260419T180906Z
DTSTART:20211216T050000Z
DTEND:20211216T060000Z
LOCATION:Crested Butte Library
SUMMARY:Yoga for Skiers
DESCRIPTION:Instructor Katie Thomas will be leading yoga this winter for al
 l levels and abilities at the Crested Butte Library. Classes are free\,  pr
 ovide your own mat. We&#8217;ll have extra mats if you do not have your own
 .\nhttps://www.gunnisoncountylibraries.org/events/free-yoga-classes-6/
URL:https://www.gunnisoncountylibraries.org/events/free-yoga-classes-6/
END:VEVENT
END:VCALENDAR