BEGIN:VCALENDAR
VERSION:2.0
PRODID:-//eventon.com NONSGML v1.0//EN
CALSCALE:GREGORIAN
METHOD:PUBLISH
BEGIN:VEVENT
UID:69e54bf8ad1e4
DTSTAMP:20260419T214112Z
DTSTART:20211028T050000Z
DTEND:20211028T063000Z
LOCATION:Gunnison Library 1 Quartz Street\,  Gunnison\,  CO 81230
SUMMARY:Author Visit: Jon Waterman
DESCRIPTION:Join us for an evening with Jon Waterman as he discusses his la
 test book\,  National Geographic Atlas of the National Parks (2019). About 
 the Author: Jon Waterman started shooting photographs on his expeditions th
 ree decades ago\,  but also found his calling and is principally known as a
  writer. He has[..]\nhttps://www.gunnisoncountylibraries.org/events/author-
 visit-jon-waterman-2/
URL:https://www.gunnisoncountylibraries.org/events/author-visit-jon-waterman-2/
END:VEVENT
END:VCALENDAR